BEGIN:VCALENDAR
VERSION:2.0
PRODID:-//Résonance bien-être - ECPv6.15.17//NONSGML v1.0//EN
CALSCALE:GREGORIAN
METHOD:PUBLISH
X-WR-CALNAME:Résonance bien-être
X-ORIGINAL-URL:https://resonancebienetre.fr
X-WR-CALDESC:Évènements pour Résonance bien-être
REFRESH-INTERVAL;VALUE=DURATION:PT1H
X-Robots-Tag:noindex
X-PUBLISHED-TTL:PT1H
BEGIN:VTIMEZONE
TZID:Europe/Paris
BEGIN:DAYLIGHT
TZOFFSETFROM:+0100
TZOFFSETTO:+0200
TZNAME:CEST
DTSTART:20250330T010000
END:DAYLIGHT
BEGIN:STANDARD
TZOFFSETFROM:+0200
TZOFFSETTO:+0100
TZNAME:CET
DTSTART:20251026T010000
END:STANDARD
BEGIN:DAYLIGHT
TZOFFSETFROM:+0100
TZOFFSETTO:+0200
TZNAME:CEST
DTSTART:20260329T010000
END:DAYLIGHT
BEGIN:STANDARD
TZOFFSETFROM:+0200
TZOFFSETTO:+0100
TZNAME:CET
DTSTART:20261025T010000
END:STANDARD
BEGIN:DAYLIGHT
TZOFFSETFROM:+0100
TZOFFSETTO:+0200
TZNAME:CEST
DTSTART:20270328T010000
END:DAYLIGHT
BEGIN:STANDARD
TZOFFSETFROM:+0200
TZOFFSETTO:+0100
TZNAME:CET
DTSTART:20271031T010000
END:STANDARD
END:VTIMEZONE
BEGIN:VEVENT
DTSTART;TZID=Europe/Paris:20260607T090000
DTEND;TZID=Europe/Paris:20260608T173000
DTSTAMP:20260424T135424
CREATED:20260404T212640Z
LAST-MODIFIED:20260404T212640Z
UID:2000-1780822800-1780939800@resonancebienetre.fr
SUMMARY:Formation Reiki Usui Tibet Teate niveau 1 à Limours
DESCRIPTION:Formation Reiki Usui Tibet Teate niveau 1 à Limours – 7 et 8 juin 2026\nUne nouvelle formation Reiki Usui Tibet Teate niveau 1 à Limours est proposée les 7 et 8 juin 2026. Cette initiation permet de découvrir les bases du Reiki\, d’apprendre à pratiquer sur soi et sur vos proches et de comprendre le fonctionnement de cette approche énergétique. \nAccessible à tous\, cette formation Reiki niveau 1 s’adresse aux personnes souhaitant découvrir le Reiki dans un cadre sérieux\, bienveillant et progressif. \nUne nouvelle date de formation Reiki niveau 1 à Limours\nJe propose une nouvelle session les 7 et 8 juin 2026 sur la demande d’une élève. Ce stage constitue la première étape pour apprendre à canaliser l’énergie Reiki et intégrer cette pratique dans sa vie quotidienne. \nA qui s’adresse cette formation Reiki niveau 1?\nCette formation est ouverte à toute personne souhaitant découvrir le Reiki\, sans prérequis particulier. \nElle peut convenir \n\nAux personnes en recherche de mieux être\nA celles qui souhaitent apprendre à pratiquer sur elles mêmes\nAux professionnels du bien être ou de l’accompagnement\n\nLe programme de la formation niveau 1\nPendant ces deux journées de formation vous découvrirez: \n\nL’histoire du Reiki\nLes cinq idéaux de Reiki\nLes 4 initiations du premier degré dont un reiju\nL’auto traitement\nLa pratique sur autrui\nLes échanges et pratiques guidées\n\nInformations pratiques\nLieu: Limours (Essonne-91) \nDate: 7 et 8 juin 2026 \nNombre de places limité \nRéserver votre place pour la formation Reiki 1\nAppelez moi au 06.30.64.84.06 \nCette formation Reiki niveau 1 à Limours peut accueillir des participants venant de Limours mais aussi de l’Essonne\, les Yvelines et des communes voisines. \nSi cette date ne vous convient pas\, contactez moi pour en positionner une autre. \n 
URL:https://resonancebienetre.fr/stages/formation-reiki-niveau-1-limours-7-8-juin-2026/
LOCATION:Résonance bien être\, 21 rue des acacias\, Limours\, Sélectionner un État :\, 91470\, France
CATEGORIES:Stage reiki
ORGANIZER;CN="Alexandra BRENNETOT":MAILTO:resonancebienetre91@gmail.com
END:VEVENT
END:VCALENDAR